BEGIN:VCALENDAR
VERSION:2.0
PRODID:-//eventon.com NONSGML v1.0//EN
CALSCALE:GREGORIAN
METHOD:PUBLISH
BEGIN:VEVENT
UID:69ecda97a06f6
DTSTAMP:20260425T151535Z
DTSTART:20260413T080000Z
DTEND:20260418T140000Z
LOCATION:
SUMMARY:Spring Breezes Hardscape Sale
DESCRIPTION:Sale runs Monday through Saturday. 10% off patio pavers and ret
 aining walls. This is your annual opportunity to buy the products for your 
 hardscape project at a discount. Come in and see what is new! We have new c
 atalogs. We are updating our display with new products.\nhttps://ebyland.co
 m/blog/events/spring-breezes-hardscape-sale-2/
URL:https://ebyland.com/blog/events/spring-breezes-hardscape-sale-2/
END:VEVENT
END:VCALENDAR