BEGIN:VCALENDAR
VERSION:2.0
PRODID:-//eventon.com NONSGML v1.0//EN
CALSCALE:GREGORIAN
METHOD:PUBLISH
BEGIN:VEVENT
UID:69ecdaa20038e
DTSTAMP:20260425T151546Z
DTSTART:20260424T200000Z
DTEND:20260425T173000Z
LOCATION:
SUMMARY:Customer Appreciation Days
DESCRIPTION:We want to say thank you! Without you we couldn&#8217;t be here
 . As a way to give back we are offering 10% off mulch\,  decorative stone\,
   and driveway gravel. Thank you for choosing us!\nhttps://ebyland.com/blog
 /events/customer-appreciation-days-2/
URL:https://ebyland.com/blog/events/customer-appreciation-days-2/
END:VEVENT
END:VCALENDAR