BEGIN:VCALENDAR
VERSION:2.0
PRODID:-//eventon.com NONSGML v1.0//EN
CALSCALE:GREGORIAN
METHOD:PUBLISH
BEGIN:VEVENT
UID:69ecda95a8796
DTSTAMP:20260425T151533Z
DTSTART:20260508T200000Z
DTEND:20260509T173000Z
LOCATION:
SUMMARY:Mother's Day Sale at the Greenhouse
DESCRIPTION:Say &#8220;thank you&#8221; to that special lady in your life t
 his weekend. 10% off Annuals\,  Hanging Baskets\,  &amp; Planters. Come see
  our department loaded with plants!\nhttps://ebyland.com/blog/events/mother
 s-day-sale-at-the-greenhouse/
URL:https://ebyland.com/blog/events/mothers-day-sale-at-the-greenhouse/
END:VEVENT
END:VCALENDAR