BEGIN:VCALENDAR
VERSION:2.0
PRODID:-//eventon.com NONSGML v1.0//EN
CALSCALE:GREGORIAN
METHOD:PUBLISH
BEGIN:VEVENT
UID:69ecda95d1ed3
DTSTAMP:20260425T151533Z
DTSTART:20260619T120000Z
DTEND:20260620T213000Z
LOCATION:
SUMMARY:Father's Day Sale at the Greenhouse
DESCRIPTION:Enjoy big savings for Dad and show him how much you appreciate 
 him with a tree or shrub for him to plant. 10% off Trees &amp; Shrubs. Come
  out and enjoy the savings and see all the nice nursery stock that we have.
 \nhttps://ebyland.com/blog/events/fathers-day-sale-at-the-greenhouse/
URL:https://ebyland.com/blog/events/fathers-day-sale-at-the-greenhouse/
END:VEVENT
END:VCALENDAR